BEGIN:VCALENDAR
VERSION:2.0
PRODID:-//wp-events-plugin.com//7.2.3.1//EN
TZID:America/Los_Angeles
X-WR-TIMEZONE:America/Los_Angeles
BEGIN:VEVENT
UID:24@teaceremonyseattle.org
DTSTART;TZID=America/Los_Angeles:20240121T133000
DTEND;TZID=America/Los_Angeles:20240121T150000
DTSTAMP:20240111T180041Z
URL:https://teaceremonyseattle.org/events/hatsugama24-afternoon/
SUMMARY:Hatsugama 2024 Afternoon session / 2024年度初釜 午後の部
DESCRIPTION:\nPlease join us for the first tea gathering of the year to cel
 ebrate the new year!\n2024年度の 新年を祝う初釜茶会へ是非
 ご参加ください。\nDate: Sunday January 21st\, 2024\n\nTime: Aftern
 oon session starts at 1:30pm.&nbsp\; Please arrive at least 10 minutes ear
 ly.\n\nLocation: Bellevue Children’s Academy 14640 NE 24th St Bellevue W
 A 98007\n\nFee: $25 including two tea seatings\n\nRegistration deadline is
  January 10th\, 2024. We will close the registration once we fill the spot
 s. Please sign up early using the registration page below.\n\nZelle accoun
 t for our association is Treasurer_SeattleTankokai@hotmail.com.\n\nThe che
 ck should be made payable to "Tankokai Seattle Association"\, and sent to\
 ;\nMayumi Tripp&nbsp\; &nbsp\;14306 214th Way NE Woodinville\, WA 98077
CATEGORIES:Public Event
LOCATION:Bellevue Children's Academy South Campus\, 14640 NE 24th St\, Bell
 evue\, WA\,\, 98007\, United States
GEO:47.632603;-122.14381
X-APPLE-STRUCTURED-LOCATION;VALUE=URI;X-ADDRESS=14640 NE 24th St\, Bellevue
 \, WA\,\, 98007\, United States;X-APPLE-RADIUS=100;X-TITLE=Bellevue Childr
 en's Academy South Campus:geo:47.632603,-122.14381
END:VEVENT
BEGIN:VTIMEZONE
TZID:America/Los_Angeles
X-LIC-LOCATION:America/Los_Angeles
BEGIN:STANDARD
DTSTART:20231105T010000
TZOFFSETFROM:-0700
TZOFFSETTO:-0800
TZNAME:PST
END:STANDARD
END:VTIMEZONE
END:VCALENDAR