BEGIN:VCALENDAR
VERSION:2.0
PRODID:-//wp-events-plugin.com//7.2.3.1//EN
TZID:America/Los_Angeles
X-WR-TIMEZONE:America/Los_Angeles
BEGIN:VEVENT
UID:30@teaceremonyseattle.org
DTSTART;TZID=America/Los_Angeles:20240414T130000
DTEND;TZID=America/Los_Angeles:20240414T150000
DTSTAMP:20240406T080011Z
URL:https://teaceremonyseattle.org/events/sakuramatsuri/
SUMMARY:Tea demonstration at Seattle Cherry Blossom & Japanese Cultural Fes
 tival / 桜祭での茶道プレゼンテーション 4/14/2024
DESCRIPTION:SEATTLE CHERRY BLOSSOM &amp\; JAPANESE CULTURAL FESTIVAL\nWe wi
 ll be at Seattle Center Fisher Pavilion on April 14th.\nDemonstration will
  start at 1:15pm.\nCome and visit us there.\n4月14日1時15分から、Se
 attle Center Fisher Pavilion にて茶道のデモンストレーション
 を致します。\n皆様のお越しをお待ちしております。
CATEGORIES:Public Event
LOCATION:Seattle Center\, 305 Harrison St\, Seattle\, WA\, 98109\, United S
 tates
GEO:47.622806;-122.353007
X-APPLE-STRUCTURED-LOCATION;VALUE=URI;X-ADDRESS=305 Harrison St\, Seattle\,
  WA\, 98109\, United States;X-APPLE-RADIUS=100;X-TITLE=Seattle Center:geo:
 47.622806,-122.353007
END:VEVENT
BEGIN:VTIMEZONE
TZID:America/Los_Angeles
X-LIC-LOCATION:America/Los_Angeles
BEGIN:DAYLIGHT
DTSTART:20240310T030000
TZOFFSETFROM:-0800
TZOFFSETTO:-0700
TZNAME:PDT
END:DAYLIGHT
END:VTIMEZONE
END:VCALENDAR